BEGIN:VCALENDAR
VERSION:2.0
PRODID:-//Tukios.com/
BEGIN:VEVENT
UID:0954a660-f36c-4414-81a9-0000c593e1fb@obituaries.gardenofmemory-muncie.com
DTSTAMP:20260420T212615Z
DTSTART:20260503T180000Z
DTEND:20260503T220000Z
SUMMARY:Celebration of Life
DESCRIPTION:
URL:https://obituaries.gardenofmemory-muncie.com/obituaries/suzan-powers
LOCATION:Albany Youth Center 145 N Broadway St  Albany IN 47320
GEO:40.300377;-85.2397139
END:VEVENT
END:VCALENDAR