BEGIN:VCALENDAR
VERSION:2.0
PRODID:-//Tukios.com/
BEGIN:VEVENT
UID:0976cfde-f415-4db4-8967-a3b7eb9e7bbb@obituaries.gardenofmemory-muncie.com
DTSTAMP:20260420T184846Z
DTSTART:20260423T150000Z
DTEND:20260423T170000Z
SUMMARY:Visitation
DESCRIPTION:
URL:https://obituaries.gardenofmemory-muncie.com/obituaries/walter-wilber
LOCATION: 10501 IN-3  Muncie IN 47303
GEO:40.2824822;-85.3691292
END:VEVENT
END:VCALENDAR