BEGIN:VCALENDAR
VERSION:2.0
PRODID:-//Tukios.com/
BEGIN:VEVENT
UID:82bed4a0-0792-479a-b3d7-448c4391d4d7@obituaries.gardenofmemory-muncie.com
DTSTAMP:20260420T184218Z
DTSTART:20260423T170000Z
DTEND:20260423T180000Z
SUMMARY:Funeral Service
DESCRIPTION:
URL:https://obituaries.gardenofmemory-muncie.com/obituaries/walter-wilber
LOCATION: 10501 IN-3  Muncie IN 47303
GEO:40.2824822;-85.3691292
END:VEVENT
END:VCALENDAR